BEGIN:VCALENDAR
VERSION:2.0
PRODID:-//Piece of Chess - ECPv6.15.20//NONSGML v1.0//EN
CALSCALE:GREGORIAN
METHOD:PUBLISH
X-WR-CALNAME:Piece of Chess
X-ORIGINAL-URL:https://www.pieceofchess.com
X-WR-CALDESC:Events for Piece of Chess
REFRESH-INTERVAL;VALUE=DURATION:PT1H
X-Robots-Tag:noindex
X-PUBLISHED-TTL:PT1H
BEGIN:VTIMEZONE
TZID:Europe/Dublin
BEGIN:STANDARD
TZOFFSETFROM:+0000
TZOFFSETTO:+0100
TZNAME:IST
DTSTART:20240331T010000
END:STANDARD
BEGIN:DAYLIGHT
TZOFFSETFROM:+0100
TZOFFSETTO:+0000
TZNAME:GMT
DTSTART:20241027T010000
END:DAYLIGHT
BEGIN:STANDARD
TZOFFSETFROM:+0000
TZOFFSETTO:+0100
TZNAME:IST
DTSTART:20250330T010000
END:STANDARD
BEGIN:DAYLIGHT
TZOFFSETFROM:+0100
TZOFFSETTO:+0000
TZNAME:GMT
DTSTART:20251026T010000
END:DAYLIGHT
BEGIN:STANDARD
TZOFFSETFROM:+0000
TZOFFSETTO:+0100
TZNAME:IST
DTSTART:20260329T010000
END:STANDARD
BEGIN:DAYLIGHT
TZOFFSETFROM:+0100
TZOFFSETTO:+0000
TZNAME:GMT
DTSTART:20261025T010000
END:DAYLIGHT
BEGIN:STANDARD
TZOFFSETFROM:+0000
TZOFFSETTO:+0100
TZNAME:IST
DTSTART:20270328T010000
END:STANDARD
BEGIN:DAYLIGHT
TZOFFSETFROM:+0100
TZOFFSETTO:+0000
TZNAME:GMT
DTSTART:20271031T010000
END:DAYLIGHT
END:VTIMEZONE
BEGIN:VEVENT
DTSTART;TZID=Europe/Dublin:20260410T183000
DTEND;TZID=Europe/Dublin:20260412T170000
DTSTAMP:20260421T130856
CREATED:20260303T112421Z
LAST-MODIFIED:20260326T113014Z
UID:351-1775845800-1776013200@www.pieceofchess.com
SUMMARY:Irish Junior Championship
DESCRIPTION:
URL:https://www.pieceofchess.com/event/irish-junior-championship/
LOCATION:Cholaiste Choilm\, Ballincollig\, Ballincollig\, P31NY77\, Ireland
CATEGORIES:FIDE rated,ICU rated,individual,standard,standard,swiss
END:VEVENT
BEGIN:VEVENT
DTSTART;TZID=Europe/Dublin:20260410T130000
DTEND;TZID=Europe/Dublin:20260410T170000
DTSTAMP:20260421T130856
CREATED:20260326T112649Z
LAST-MODIFIED:20260326T112649Z
UID:354-1775826000-1775840400@www.pieceofchess.com
SUMMARY:Rebel Rapid Chess
DESCRIPTION:
URL:https://www.pieceofchess.com/event/rebel-rapid-chess-2/
LOCATION:Cholaiste Choilm\, Ballincollig\, Ballincollig\, P31NY77\, Ireland
CATEGORIES:FIDE rated,individual,rapid,swiss,unrated
END:VEVENT
BEGIN:VEVENT
DTSTART;TZID=Europe/Dublin:20260103T200000
DTEND;TZID=Europe/Dublin:20260103T223000
DTSTAMP:20260421T130856
CREATED:20251007T220222Z
LAST-MODIFIED:20251007T220222Z
UID:318-1767470400-1767479400@www.pieceofchess.com
SUMMARY:Kinsale Winter Open Blitz
DESCRIPTION:
URL:https://www.pieceofchess.com/event/kinsale-winter-open-blitz/
LOCATION:Trident Hotel\, Kinsale\, Trident Hotel Kinsale\, Kinsale\, P17 NT38\, Ireland
CATEGORIES:blitz,FIDE rated,individual,standard,swiss
END:VEVENT
BEGIN:VEVENT
DTSTART;TZID=Europe/Dublin:20260102T100000
DTEND;TZID=Europe/Dublin:20260102T143000
DTSTAMP:20260421T130856
CREATED:20251007T215857Z
LAST-MODIFIED:20251007T215913Z
UID:312-1767348000-1767364200@www.pieceofchess.com
SUMMARY:Kinsale Winter Junior Rapid
DESCRIPTION:
URL:https://www.pieceofchess.com/event/kinsale-winter-junior-rapid/
LOCATION:Trident Hotel\, Kinsale\, Trident Hotel Kinsale\, Kinsale\, P17 NT38\, Ireland
CATEGORIES:FIDE rated,individual,rapid,standard,swiss
END:VEVENT
BEGIN:VEVENT
DTSTART;TZID=Europe/Dublin:20260102T000000
DTEND;TZID=Europe/Dublin:20260104T235959
DTSTAMP:20260421T130856
CREATED:20251007T220107Z
LAST-MODIFIED:20251007T220107Z
UID:316-1767312000-1767571199@www.pieceofchess.com
SUMMARY:Kinsale Winter Open
DESCRIPTION:
URL:https://www.pieceofchess.com/event/kinsale-winter-open/
LOCATION:Trident Hotel\, Kinsale\, Trident Hotel Kinsale\, Kinsale\, P17 NT38\, Ireland
CATEGORIES:FIDE rated,individual,standard,standard,swiss
END:VEVENT
BEGIN:VEVENT
DTSTART;TZID=Europe/Dublin:20251108T000000
DTEND;TZID=Europe/Dublin:20251109T235959
DTSTAMP:20260421T130856
CREATED:20251007T215030Z
LAST-MODIFIED:20251007T215030Z
UID:301-1762560000-1762732799@www.pieceofchess.com
SUMMARY:Cork County Junior Championship
DESCRIPTION:
URL:https://www.pieceofchess.com/event/cork-county-junior-championship/
CATEGORIES:FIDE rated,individual,standard,standard,swiss
END:VEVENT
BEGIN:VEVENT
DTSTART;TZID=Europe/Dublin:20251102T000000
DTEND;TZID=Europe/Dublin:20251102T235959
DTSTAMP:20260421T130856
CREATED:20251007T215304Z
LAST-MODIFIED:20251007T215321Z
UID:303-1762041600-1762127999@www.pieceofchess.com
SUMMARY:Munster Chess Union Club League (Round 1-2)
DESCRIPTION:
URL:https://www.pieceofchess.com/event/munster-union-senior-club-league-round-1-2/
LOCATION:Firgrove Hotel\, Mitchelstown\, Firgrove Hotel\, Mitchelstown\, P67 Y206\, Ireland
CATEGORIES:FIDE rated,standard,standard,swiss,team
END:VEVENT
BEGIN:VEVENT
DTSTART;TZID=Europe/Dublin:20251003T000000
DTEND;TZID=Europe/Dublin:20251005T235959
DTSTAMP:20260421T130856
CREATED:20250313T233212Z
LAST-MODIFIED:20250725T185424Z
UID:235-1759449600-1759708799@www.pieceofchess.com
SUMMARY:The 33rd Cork Congress 2025
DESCRIPTION: 
URL:https://www.pieceofchess.com/event/the-33rd-cork-congress-2025/
LOCATION:Clayton Hotel Cork City\, 10 Lapp's Quay\, Cork\, T12 RD6E
CATEGORIES:FIDE rated,swiss
END:VEVENT
BEGIN:VEVENT
DTSTART;TZID=Europe/Dublin:20250809T200000
DTEND;TZID=Europe/Dublin:20250809T223000
DTSTAMP:20260421T130856
CREATED:20250710T204421Z
LAST-MODIFIED:20250710T204421Z
UID:289-1754769600-1754778600@www.pieceofchess.com
SUMMARY:Irish Blitz Championship 2025
DESCRIPTION:11 rounds\, FIDE rated\, 3 + 2\nRound 1: 8 pm\, finished around 10:30 pm\n\nNon IRL federation players may play and win prizes but may not earn the title of Irish Blitz Champion. \n 
URL:https://www.pieceofchess.com/event/irish-blitz-championship-2025/
LOCATION:West County Hotel\, Ennis\, Clare\, Limerick Road\, Ennis\, V95 C9CT\, Ireland
CATEGORIES:blitz,FIDE rated,swiss
END:VEVENT
BEGIN:VEVENT
DTSTART;TZID=Europe/Dublin:20250808T113000
DTEND;TZID=Europe/Dublin:20250808T140000
DTSTAMP:20260421T130856
CREATED:20250710T204127Z
LAST-MODIFIED:20250710T204127Z
UID:285-1754652600-1754661600@www.pieceofchess.com
SUMMARY:Irish U20/U12 Junior Blitz championship 2025
DESCRIPTION:11 rounds\, FIDE rated\, 3 + 2\nPlayers must be under 20 or under 12 in the year of the event.\n\nThe two sections will be merged if entries are insufficient.
URL:https://www.pieceofchess.com/event/irish-u20-u12-junior-blitz-championship-2025/
LOCATION:West County Hotel\, Ennis\, Clare\, Limerick Road\, Ennis\, V95 C9CT\, Ireland
CATEGORIES:blitz,FIDE rated,swiss
END:VEVENT
BEGIN:VEVENT
DTSTART;TZID=Europe/Dublin:20250802T200000
DTEND;TZID=Europe/Dublin:20250802T230000
DTSTAMP:20260421T130856
CREATED:20250710T203853Z
LAST-MODIFIED:20250710T204245Z
UID:283-1754164800-1754175600@www.pieceofchess.com
SUMMARY:Irish Rapid Championships 2025
DESCRIPTION:6 rounds\, FIDE rated\, 10 + 5\nOpen to all players including non IRL. Non IRL may not earn the title of Rapid Irish Champion.\nRound 1: 8 pm\, finished around 11 pm
URL:https://www.pieceofchess.com/event/irish-rapid-championships-2025/
LOCATION:West County Hotel\, Ennis\, Clare\, Limerick Road\, Ennis\, V95 C9CT\, Ireland
CATEGORIES:FIDE rated,rapid,swiss
END:VEVENT
BEGIN:VEVENT
DTSTART;TZID=Europe/Dublin:20250801T143000
DTEND;TZID=Europe/Dublin:20250801T180000
DTSTAMP:20260421T130856
CREATED:20250710T203728Z
LAST-MODIFIED:20250710T204219Z
UID:280-1754058600-1754071200@www.pieceofchess.com
SUMMARY:Irish U12/U20 Junior Rapid Championship 2025
DESCRIPTION:6 rounds\, FIDE rated 10min+5sec tournament\nParticipants must be U20/U12 in the year of the event\n\nRound 1 starts at 2.30pm\, and finishes around 6pm.
URL:https://www.pieceofchess.com/event/irish-u12-u20-junir-rapid-championship-2025/
LOCATION:West County Hotel\, Ennis\, Clare\, Limerick Road\, Ennis\, V95 C9CT\, Ireland
CATEGORIES:FIDE rated,rapid,swiss
END:VEVENT
BEGIN:VEVENT
DTSTART;TZID=Europe/Dublin:20250608T140000
DTEND;TZID=Europe/Dublin:20250608T183000
DTSTAMP:20260421T130856
CREATED:20250526T160320Z
LAST-MODIFIED:20250526T160320Z
UID:256-1749391200-1749407400@www.pieceofchess.com
SUMMARY:2nd Rebel Rapid Open
DESCRIPTION:FIDE rated rapid: 10min + 5sec/move.
URL:https://www.pieceofchess.com/event/2nd-rebel-rapid-open/
LOCATION:Cork Chess Club\, 36 St. Patrick's Quay\, Cork\, T23 EP20\, Ireland
CATEGORIES:FIDE rated,swiss
END:VEVENT
BEGIN:VEVENT
DTSTART;TZID=Europe/Dublin:20250406T150000
DTEND;TZID=Europe/Dublin:20250406T190000
DTSTAMP:20260421T130856
CREATED:20250313T232911Z
LAST-MODIFIED:20250313T232911Z
UID:232-1743951600-1743966000@www.pieceofchess.com
SUMMARY:Rebel Rapid Chess
DESCRIPTION:
URL:https://www.pieceofchess.com/event/rebel-rapid-chess/
LOCATION:The Carraig Centre\, Old Fort Rd\, Ballincollig\, Cork\, Cork\, P31 PV20\, Ireland
CATEGORIES:FIDE rated,rapid,swiss
END:VEVENT
BEGIN:VEVENT
DTSTART;TZID=Europe/Dublin:20250328T000000
DTEND;TZID=Europe/Dublin:20250330T235959
DTSTAMP:20260421T130856
CREATED:20250313T232705Z
LAST-MODIFIED:20250313T232705Z
UID:229-1743120000-1743379199@www.pieceofchess.com
SUMMARY:The Mulcahy Memorial 2025
DESCRIPTION:
URL:https://www.pieceofchess.com/event/the-mulcahy-memorial-2025/
LOCATION:University College Cork\, Aula Maxima\, 60 College Rd\, University College\, Cork\, T12 K5W7\, Ireland
CATEGORIES:FIDE rated,swiss
END:VEVENT
END:VCALENDAR