BEGIN:VCALENDAR
VERSION:2.0
PRODID:-//Piece of Chess - ECPv6.15.20//NONSGML v1.0//EN
CALSCALE:GREGORIAN
METHOD:PUBLISH
X-ORIGINAL-URL:https://www.pieceofchess.com
X-WR-CALDESC:Events for Piece of Chess
REFRESH-INTERVAL;VALUE=DURATION:PT1H
X-Robots-Tag:noindex
X-PUBLISHED-TTL:PT1H
BEGIN:VTIMEZONE
TZID:Europe/Dublin
BEGIN:STANDARD
TZOFFSETFROM:+0000
TZOFFSETTO:+0100
TZNAME:IST
DTSTART:20230326T010000
END:STANDARD
BEGIN:DAYLIGHT
TZOFFSETFROM:+0100
TZOFFSETTO:+0000
TZNAME:GMT
DTSTART:20231029T010000
END:DAYLIGHT
BEGIN:STANDARD
TZOFFSETFROM:+0000
TZOFFSETTO:+0100
TZNAME:IST
DTSTART:20240331T010000
END:STANDARD
BEGIN:DAYLIGHT
TZOFFSETFROM:+0100
TZOFFSETTO:+0000
TZNAME:GMT
DTSTART:20241027T010000
END:DAYLIGHT
BEGIN:STANDARD
TZOFFSETFROM:+0000
TZOFFSETTO:+0100
TZNAME:IST
DTSTART:20250330T010000
END:STANDARD
BEGIN:DAYLIGHT
TZOFFSETFROM:+0100
TZOFFSETTO:+0000
TZNAME:GMT
DTSTART:20251026T010000
END:DAYLIGHT
BEGIN:STANDARD
TZOFFSETFROM:+0000
TZOFFSETTO:+0100
TZNAME:IST
DTSTART:20260329T010000
END:STANDARD
BEGIN:DAYLIGHT
TZOFFSETFROM:+0100
TZOFFSETTO:+0000
TZNAME:GMT
DTSTART:20261025T010000
END:DAYLIGHT
END:VTIMEZONE
BEGIN:VEVENT
DTSTART;TZID=Europe/Dublin:20251102T000000
DTEND;TZID=Europe/Dublin:20251102T235959
DTSTAMP:20260421T115519
CREATED:20251007T215304Z
LAST-MODIFIED:20251007T215321Z
UID:303-1762041600-1762127999@www.pieceofchess.com
SUMMARY:Munster Chess Union Club League (Round 1-2)
DESCRIPTION:
URL:https://www.pieceofchess.com/event/munster-union-senior-club-league-round-1-2/
LOCATION:Firgrove Hotel\, Mitchelstown\, Firgrove Hotel\, Mitchelstown\, P67 Y206\, Ireland
CATEGORIES:FIDE rated,standard,standard,swiss,team
END:VEVENT
BEGIN:VEVENT
DTSTART;TZID=Europe/Dublin:20241020T000000
DTEND;TZID=Europe/Dublin:20241020T235959
DTSTAMP:20260421T115519
CREATED:20241019T161718Z
LAST-MODIFIED:20241019T161718Z
UID:188-1729382400-1729468799@www.pieceofchess.com
SUMMARY:Munster Senior League Round 1-2
DESCRIPTION:Senior League\, Division 1-4 competitions.
URL:https://www.pieceofchess.com/event/munster-senior-league-round-1-2/
LOCATION:Charleville Park Hotel\, Limerick Rd\, Rathgoggan North\, Charleville\, Cork\, P56 V268\, Ireland
CATEGORIES:ICU rated,round-robin,team
END:VEVENT
END:VCALENDAR