BEGIN:VCALENDAR
VERSION:2.0
PRODID:-//Piece of Chess - ECPv6.15.20//NONSGML v1.0//EN
CALSCALE:GREGORIAN
METHOD:PUBLISH
X-WR-CALNAME:Piece of Chess
X-ORIGINAL-URL:https://www.pieceofchess.com
X-WR-CALDESC:Events for Piece of Chess
REFRESH-INTERVAL;VALUE=DURATION:PT1H
X-Robots-Tag:noindex
X-PUBLISHED-TTL:PT1H
BEGIN:VTIMEZONE
TZID:Europe/Dublin
BEGIN:STANDARD
TZOFFSETFROM:+0000
TZOFFSETTO:+0100
TZNAME:IST
DTSTART:20240331T010000
END:STANDARD
BEGIN:DAYLIGHT
TZOFFSETFROM:+0100
TZOFFSETTO:+0000
TZNAME:GMT
DTSTART:20241027T010000
END:DAYLIGHT
BEGIN:STANDARD
TZOFFSETFROM:+0000
TZOFFSETTO:+0100
TZNAME:IST
DTSTART:20250330T010000
END:STANDARD
BEGIN:DAYLIGHT
TZOFFSETFROM:+0100
TZOFFSETTO:+0000
TZNAME:GMT
DTSTART:20251026T010000
END:DAYLIGHT
BEGIN:STANDARD
TZOFFSETFROM:+0000
TZOFFSETTO:+0100
TZNAME:IST
DTSTART:20260329T010000
END:STANDARD
BEGIN:DAYLIGHT
TZOFFSETFROM:+0100
TZOFFSETTO:+0000
TZNAME:GMT
DTSTART:20261025T010000
END:DAYLIGHT
END:VTIMEZONE
BEGIN:VEVENT
DTSTART;TZID=Europe/Dublin:20250328T000000
DTEND;TZID=Europe/Dublin:20250330T235959
DTSTAMP:20260421T114441
CREATED:20250313T232705Z
LAST-MODIFIED:20250313T232705Z
UID:229-1743120000-1743379199@www.pieceofchess.com
SUMMARY:The Mulcahy Memorial 2025
DESCRIPTION:
URL:https://www.pieceofchess.com/event/the-mulcahy-memorial-2025/
LOCATION:University College Cork\, Aula Maxima\, 60 College Rd\, University College\, Cork\, T12 K5W7\, Ireland
CATEGORIES:FIDE rated,swiss
END:VEVENT
END:VCALENDAR