BEGIN:VCALENDAR
VERSION:2.0
PRODID:-//Piece of Chess - ECPv6.15.20//NONSGML v1.0//EN
CALSCALE:GREGORIAN
METHOD:PUBLISH
X-WR-CALNAME:Piece of Chess
X-ORIGINAL-URL:https://www.pieceofchess.com
X-WR-CALDESC:Events for Piece of Chess
REFRESH-INTERVAL;VALUE=DURATION:PT1H
X-Robots-Tag:noindex
X-PUBLISHED-TTL:PT1H
BEGIN:VTIMEZONE
TZID:Europe/Dublin
BEGIN:STANDARD
TZOFFSETFROM:+0000
TZOFFSETTO:+0100
TZNAME:IST
DTSTART:20240331T010000
END:STANDARD
BEGIN:DAYLIGHT
TZOFFSETFROM:+0100
TZOFFSETTO:+0000
TZNAME:GMT
DTSTART:20241027T010000
END:DAYLIGHT
BEGIN:STANDARD
TZOFFSETFROM:+0000
TZOFFSETTO:+0100
TZNAME:IST
DTSTART:20250330T010000
END:STANDARD
BEGIN:DAYLIGHT
TZOFFSETFROM:+0100
TZOFFSETTO:+0000
TZNAME:GMT
DTSTART:20251026T010000
END:DAYLIGHT
BEGIN:STANDARD
TZOFFSETFROM:+0000
TZOFFSETTO:+0100
TZNAME:IST
DTSTART:20260329T010000
END:STANDARD
BEGIN:DAYLIGHT
TZOFFSETFROM:+0100
TZOFFSETTO:+0000
TZNAME:GMT
DTSTART:20261025T010000
END:DAYLIGHT
END:VTIMEZONE
BEGIN:VEVENT
DTSTART;TZID=Europe/Dublin:20250801T143000
DTEND;TZID=Europe/Dublin:20250801T180000
DTSTAMP:20260421T002944
CREATED:20250710T203728Z
LAST-MODIFIED:20250710T204219Z
UID:280-1754058600-1754071200@www.pieceofchess.com
SUMMARY:Irish U12/U20 Junior Rapid Championship 2025
DESCRIPTION:6 rounds\, FIDE rated 10min+5sec tournament\nParticipants must be U20/U12 in the year of the event\n\nRound 1 starts at 2.30pm\, and finishes around 6pm.
URL:https://www.pieceofchess.com/event/irish-u12-u20-junir-rapid-championship-2025/
LOCATION:West County Hotel\, Ennis\, Clare\, Limerick Road\, Ennis\, V95 C9CT\, Ireland
CATEGORIES:FIDE rated,rapid,swiss
END:VEVENT
BEGIN:VEVENT
DTSTART;TZID=Europe/Dublin:20250802T200000
DTEND;TZID=Europe/Dublin:20250802T230000
DTSTAMP:20260421T002944
CREATED:20250710T203853Z
LAST-MODIFIED:20250710T204245Z
UID:283-1754164800-1754175600@www.pieceofchess.com
SUMMARY:Irish Rapid Championships 2025
DESCRIPTION:6 rounds\, FIDE rated\, 10 + 5\nOpen to all players including non IRL. Non IRL may not earn the title of Rapid Irish Champion.\nRound 1: 8 pm\, finished around 11 pm
URL:https://www.pieceofchess.com/event/irish-rapid-championships-2025/
LOCATION:West County Hotel\, Ennis\, Clare\, Limerick Road\, Ennis\, V95 C9CT\, Ireland
CATEGORIES:FIDE rated,rapid,swiss
END:VEVENT
BEGIN:VEVENT
DTSTART;TZID=Europe/Dublin:20250808T113000
DTEND;TZID=Europe/Dublin:20250808T140000
DTSTAMP:20260421T002944
CREATED:20250710T204127Z
LAST-MODIFIED:20250710T204127Z
UID:285-1754652600-1754661600@www.pieceofchess.com
SUMMARY:Irish U20/U12 Junior Blitz championship 2025
DESCRIPTION:11 rounds\, FIDE rated\, 3 + 2\nPlayers must be under 20 or under 12 in the year of the event.\n\nThe two sections will be merged if entries are insufficient.
URL:https://www.pieceofchess.com/event/irish-u20-u12-junior-blitz-championship-2025/
LOCATION:West County Hotel\, Ennis\, Clare\, Limerick Road\, Ennis\, V95 C9CT\, Ireland
CATEGORIES:blitz,FIDE rated,swiss
END:VEVENT
BEGIN:VEVENT
DTSTART;TZID=Europe/Dublin:20250809T200000
DTEND;TZID=Europe/Dublin:20250809T223000
DTSTAMP:20260421T002944
CREATED:20250710T204421Z
LAST-MODIFIED:20250710T204421Z
UID:289-1754769600-1754778600@www.pieceofchess.com
SUMMARY:Irish Blitz Championship 2025
DESCRIPTION:11 rounds\, FIDE rated\, 3 + 2\nRound 1: 8 pm\, finished around 10:30 pm\n\nNon IRL federation players may play and win prizes but may not earn the title of Irish Blitz Champion. \n 
URL:https://www.pieceofchess.com/event/irish-blitz-championship-2025/
LOCATION:West County Hotel\, Ennis\, Clare\, Limerick Road\, Ennis\, V95 C9CT\, Ireland
CATEGORIES:blitz,FIDE rated,swiss
END:VEVENT
END:VCALENDAR